BEGIN:VCALENDAR
VERSION:2.0
PRODID:-//Social Innovation + Change Initiative - ECPv6.15.18//NONSGML v1.0//EN
CALSCALE:GREGORIAN
METHOD:PUBLISH
X-WR-CALNAME:Social Innovation + Change Initiative
X-ORIGINAL-URL:https://sici.hks.harvard.edu
X-WR-CALDESC:Events for Social Innovation + Change Initiative
REFRESH-INTERVAL;VALUE=DURATION:PT1H
X-Robots-Tag:noindex
X-PUBLISHED-TTL:PT1H
BEGIN:VTIMEZONE
TZID:UTC
BEGIN:STANDARD
TZOFFSETFROM:+0000
TZOFFSETTO:+0000
TZNAME:UTC
DTSTART:20250101T000000
END:STANDARD
END:VTIMEZONE
BEGIN:VEVENT
DTSTART;TZID=UTC:20260424T090000
DTEND;TZID=UTC:20260424T100000
DTSTAMP:20260420T120008
CREATED:20260420T152513Z
LAST-MODIFIED:20260420T152515Z
UID:13009-1777021200-1777024800@sici.hks.harvard.edu
SUMMARY:Social Innovation Fellows Program Information Session (April 24)
DESCRIPTION:Join the staff of the Social Innovation and Change Initiative at HKS to learn about the Social Innovation Fellows Program! \n\n\n\nThe Social Innovation Fellows Program is a rigorous co-curricular accelerator for changemakers committed to addressing pressing social problems in new and creative ways. Selected students referred to as SICI Fellows\, advance social innovation projects of their own conception while in school by engaging in a curated sequence of weekly co-curricular sessions\, individualized coaching\, peer support from a diverse cohort of innovators\, self-directed experiential learning and are eligible for up to $30\,000 in financial support to continue their work post-graduation. \n\n\n\nPlease carefully review the application webpage for details and eligibility requirements.
URL:https://sici.hks.harvard.edu/event/social-innovation-fellows-program-information-session-april-24/
CATEGORIES:Info Session
END:VEVENT
BEGIN:VEVENT
DTSTART;TZID=UTC:20260514T150000
DTEND;TZID=UTC:20260514T160000
DTSTAMP:20260420T120008
CREATED:20260420T152726Z
LAST-MODIFIED:20260420T152834Z
UID:13013-1778770800-1778774400@sici.hks.harvard.edu
SUMMARY:Social Innovation Fellows Program Information Session (May 14)
DESCRIPTION:Join the staff of the Social Innovation and Change Initiative at HKS to learn about the Social Innovation Fellows Program! \n\n\n\nThe Social Innovation Fellows Program is a rigorous co-curricular accelerator for changemakers committed to addressing pressing social problems in new and creative ways. Selected students referred to as SICI Fellows\, advance social innovation projects of their own conception while in school by engaging in a curated sequence of weekly co-curricular sessions\, individualized coaching\, peer support from a diverse cohort of innovators\, self-directed experiential learning and are eligible for up to $30\,000 in financial support to continue their work post-graduation. \n\n\n\nPlease carefully review the application webpage for details and eligibility requirements.
URL:https://sici.hks.harvard.edu/event/social-innovation-fellows-program-information-session-may-14/
CATEGORIES:Info Session
END:VEVENT
END:VCALENDAR